BEGIN:VCALENDAR
VERSION:2.0
PRODID:-//Illinois Council for Exceptional Children - ECPv6.15.20//NONSGML v1.0//EN
CALSCALE:GREGORIAN
METHOD:PUBLISH
X-ORIGINAL-URL:https://www.illinoiscec.net
X-WR-CALDESC:Events for Illinois Council for Exceptional Children
REFRESH-INTERVAL;VALUE=DURATION:PT1H
X-Robots-Tag:noindex
X-PUBLISHED-TTL:PT1H
BEGIN:VTIMEZONE
TZID:America/Chicago
BEGIN:DAYLIGHT
TZOFFSETFROM:-0600
TZOFFSETTO:-0500
TZNAME:CDT
DTSTART:20180311T080000
END:DAYLIGHT
BEGIN:STANDARD
TZOFFSETFROM:-0500
TZOFFSETTO:-0600
TZNAME:CST
DTSTART:20181104T070000
END:STANDARD
BEGIN:DAYLIGHT
TZOFFSETFROM:-0600
TZOFFSETTO:-0500
TZNAME:CDT
DTSTART:20190310T080000
END:DAYLIGHT
BEGIN:STANDARD
TZOFFSETFROM:-0500
TZOFFSETTO:-0600
TZNAME:CST
DTSTART:20191103T070000
END:STANDARD
BEGIN:DAYLIGHT
TZOFFSETFROM:-0600
TZOFFSETTO:-0500
TZNAME:CDT
DTSTART:20200308T080000
END:DAYLIGHT
BEGIN:STANDARD
TZOFFSETFROM:-0500
TZOFFSETTO:-0600
TZNAME:CST
DTSTART:20201101T070000
END:STANDARD
BEGIN:DAYLIGHT
TZOFFSETFROM:-0600
TZOFFSETTO:-0500
TZNAME:CDT
DTSTART:20210314T080000
END:DAYLIGHT
BEGIN:STANDARD
TZOFFSETFROM:-0500
TZOFFSETTO:-0600
TZNAME:CST
DTSTART:20211107T070000
END:STANDARD
BEGIN:DAYLIGHT
TZOFFSETFROM:-0600
TZOFFSETTO:-0500
TZNAME:CDT
DTSTART:20220313T080000
END:DAYLIGHT
BEGIN:STANDARD
TZOFFSETFROM:-0500
TZOFFSETTO:-0600
TZNAME:CST
DTSTART:20221106T070000
END:STANDARD
END:VTIMEZONE
BEGIN:VEVENT
DTSTART;TZID=America/Chicago:20210911T090000
DTEND;TZID=America/Chicago:20210911T120000
DTSTAMP:20260421T141543
CREATED:20210815T021128Z
LAST-MODIFIED:20210815T021128Z
UID:1567-1631350800-1631361600@www.illinoiscec.net
SUMMARY:ICEC Executive Board Meeting
DESCRIPTION:
URL:https://www.illinoiscec.net/event/icec-executive-board-meeting-6/
CATEGORIES:Executive Board,Members
ORGANIZER;CN="Paula Crowley":MAILTO:epcrowl@ilstu.edu
END:VEVENT
BEGIN:VEVENT
DTSTART;TZID=America/Chicago:20210910T190000
DTEND;TZID=America/Chicago:20210910T200000
DTSTAMP:20260421T141543
CREATED:20210714T231056Z
LAST-MODIFIED:20210815T014523Z
UID:1545-1631300400-1631304000@www.illinoiscec.net
SUMMARY:CEC 100th Anniversary Series #2 "The Importance of Inclusion"
DESCRIPTION:Dr. James M. “Jim” Kauffman\, University of Virginia\, Charlottesville\, VA\, dedicated his life to teaching\, research and service primarily focusing on the education of students with emotional and behavioral disorders. Dr. Kauffman completed his undergraduate studies at Goshen College and began his career as a classroom teacher. He completed his graduate studies at Washburn University and his doctorate degree at the University of Kansas. He taught in a psychiatric clinic associated with the Children’s Division\, Menninger Clinic at Southard School in Topeka\, Kansas. Dr. Jim Kauffman has authored numerous books and articles and has clearly established himself as a leader in the field. \nhttps://illinoisstate.zoom.us/j/96030893842  \nMeeting ID: 960 3089 3842\nOne tap mobile\n+13126266799\,\,96030893842# US (Chicago)\n+13017158592\,\,96030893842# US (Washington DC)   \nDial by your location\n+1 312 626 6799 US (Chicago)\n+1 301 715 8592 US (Washington DC)\n+1 646 876 9923 US (New York)\n+1 669 900 6833 US (San Jose)\n+1 253 215 8782 US (Tacoma)\n+1 346 248 7799 US (Houston)\nMeeting ID: 960 3089 3842 \nFind your local number: https://illinoisstate.zoom.us/u/abhhHCwJ0t \nJoin by SIP\n96030893842@zoomcrc.com
URL:https://www.illinoiscec.net/event/cec-100th-anniversary-series-2-the-importance-of-inclusion/
CATEGORIES:Executive Board,Members,Professional Development,Teachers
ATTACH;FMTTYPE=image/jpeg:https://www.illinoiscec.net/ilcec/wp-content/uploads/2021/07/session-2.jpeg
END:VEVENT
BEGIN:VEVENT
DTSTART;TZID=America/Chicago:20210612T090000
DTEND;TZID=America/Chicago:20210612T120000
DTSTAMP:20260421T141544
CREATED:20210518T171519Z
LAST-MODIFIED:20210518T171519Z
UID:1465-1623488400-1623499200@www.illinoiscec.net
SUMMARY:ICEC Executive Board Meeting
DESCRIPTION:
URL:https://www.illinoiscec.net/event/icec-executive-board-meeting-3/
CATEGORIES:Executive Board
ORGANIZER;CN="Paula Crowley":MAILTO:epcrowl@ilstu.edu
END:VEVENT
BEGIN:VEVENT
DTSTART;TZID=America/Chicago:20210213T090000
DTEND;TZID=America/Chicago:20210213T110000
DTSTAMP:20260421T141544
CREATED:20210209T153824Z
LAST-MODIFIED:20210209T153824Z
UID:1131-1613206800-1613214000@www.illinoiscec.net
SUMMARY:ICEC Virtual Board Meeting
DESCRIPTION:
URL:https://www.illinoiscec.net/event/icec-virtual-board-meeting/
CATEGORIES:Executive Board
ORGANIZER;CN="Paula Crowley":MAILTO:epcrowl@ilstu.edu
END:VEVENT
BEGIN:VEVENT
DTSTART;TZID=America/Chicago:20201106T164000
DTEND;TZID=America/Chicago:20201106T180000
DTSTAMP:20260421T141544
CREATED:20190917T141511Z
LAST-MODIFIED:20201002T023126Z
UID:568-1604680800-1604685600@www.illinoiscec.net
SUMMARY:ICEC Delegate Assembly 2020
DESCRIPTION:
URL:https://www.illinoiscec.net/event/icec-delegate-assembly/
CATEGORIES:Executive Board
END:VEVENT
BEGIN:VEVENT
DTSTART;TZID=America/Chicago:20201106T080000
DTEND;TZID=America/Chicago:20201106T180000
DTSTAMP:20260421T141544
CREATED:20201002T022324Z
LAST-MODIFIED:20201002T023524Z
UID:1066-1604649600-1604685600@www.illinoiscec.net
SUMMARY:ICEC 2020 Virtual Convention
DESCRIPTION:The ICEC 2020 Fall Convention will be presented virtually on November 6\, 2020.  Join your colleagues in participating in the outstanding online event.
URL:https://www.illinoiscec.net/event/icec-2020-virtual-convention/
CATEGORIES:Convention,Executive Board,Members,PDHs,Professional Development,Teachers
END:VEVENT
BEGIN:VEVENT
DTSTART;VALUE=DATE:20201023
DTEND;VALUE=DATE:20201024
DTSTAMP:20260421T141544
CREATED:20200911T170213Z
LAST-MODIFIED:20200911T170213Z
UID:1038-1603411200-1603497599@www.illinoiscec.net
SUMMARY:Ray Graham Memorial Grant Deadline
DESCRIPTION:The purpose of this fund is to encourage the improvement of total education for exceptional children\, within the Illinois Council for Exceptional Children.  This fund is made available as seed money and is not intended to fully fund projects.  Grantees should at least match the dollar amount of the total budget for the project.  The maximum monetary award is $500.00.  Past recipients may apply.
URL:https://www.illinoiscec.net/event/ray-graham-memorial-grant-deadline-2/
CATEGORIES:Executive Board,Members,Teachers
END:VEVENT
BEGIN:VEVENT
DTSTART;TZID=America/Chicago:20200912T090000
DTEND;TZID=America/Chicago:20200912T120000
DTSTAMP:20260421T141544
CREATED:20191130T163142Z
LAST-MODIFIED:20200904T004405Z
UID:739-1599901200-1599912000@www.illinoiscec.net
SUMMARY:ICEC Executive Board Meeting via Zoom
DESCRIPTION:
URL:https://www.illinoiscec.net/event/icec-executive-board-meeting-5/
CATEGORIES:Executive Board
END:VEVENT
BEGIN:VEVENT
DTSTART;TZID=America/Chicago:20200620T090000
DTEND;TZID=America/Chicago:20200620T120000
DTSTAMP:20260421T141544
CREATED:20191130T163048Z
LAST-MODIFIED:20200519T163141Z
UID:737-1592643600-1592654400@www.illinoiscec.net
SUMMARY:ICEC Executive Board Meeting using Zoom
DESCRIPTION:
URL:https://www.illinoiscec.net/event/icec-executive-board-meeting-4/
CATEGORIES:Executive Board
END:VEVENT
BEGIN:VEVENT
DTSTART;TZID=America/Chicago:20190908T090000
DTEND;TZID=America/Chicago:20190908T120000
DTSTAMP:20260421T141544
CREATED:20190829T134409Z
LAST-MODIFIED:20190829T134433Z
UID:479-1567933200-1567944000@www.illinoiscec.net
SUMMARY:ICEC Executive Board Meeting
DESCRIPTION:
URL:https://www.illinoiscec.net/event/icec-executive-board-meeting/
LOCATION:Chicago Marriott Naperville\, 1801 N. Naper Blvd.\, Naperville\, IL\, 60653
CATEGORIES:Executive Board
END:VEVENT
END:VCALENDAR