BEGIN:VCALENDAR
VERSION:2.0
PRODID:-//Illinois Council for Exceptional Children - ECPv6.15.20//NONSGML v1.0//EN
CALSCALE:GREGORIAN
METHOD:PUBLISH
X-WR-CALNAME:Illinois Council for Exceptional Children
X-ORIGINAL-URL:https://www.illinoiscec.net
X-WR-CALDESC:Events for Illinois Council for Exceptional Children
REFRESH-INTERVAL;VALUE=DURATION:PT1H
X-Robots-Tag:noindex
X-PUBLISHED-TTL:PT1H
BEGIN:VTIMEZONE
TZID:America/Chicago
BEGIN:DAYLIGHT
TZOFFSETFROM:-0600
TZOFFSETTO:-0500
TZNAME:CDT
DTSTART:20220313T080000
END:DAYLIGHT
BEGIN:STANDARD
TZOFFSETFROM:-0500
TZOFFSETTO:-0600
TZNAME:CST
DTSTART:20221106T070000
END:STANDARD
BEGIN:DAYLIGHT
TZOFFSETFROM:-0600
TZOFFSETTO:-0500
TZNAME:CDT
DTSTART:20230312T080000
END:DAYLIGHT
BEGIN:STANDARD
TZOFFSETFROM:-0500
TZOFFSETTO:-0600
TZNAME:CST
DTSTART:20231105T070000
END:STANDARD
BEGIN:DAYLIGHT
TZOFFSETFROM:-0600
TZOFFSETTO:-0500
TZNAME:CDT
DTSTART:20240310T080000
END:DAYLIGHT
BEGIN:STANDARD
TZOFFSETFROM:-0500
TZOFFSETTO:-0600
TZNAME:CST
DTSTART:20241103T070000
END:STANDARD
BEGIN:DAYLIGHT
TZOFFSETFROM:-0600
TZOFFSETTO:-0500
TZNAME:CDT
DTSTART:20250309T080000
END:DAYLIGHT
BEGIN:STANDARD
TZOFFSETFROM:-0500
TZOFFSETTO:-0600
TZNAME:CST
DTSTART:20251102T070000
END:STANDARD
END:VTIMEZONE
BEGIN:VEVENT
DTSTART;TZID=America/Chicago:20230615T200000
DTEND;TZID=America/Chicago:20230615T210000
DTSTAMP:20260422T225239
CREATED:20230602T212130Z
LAST-MODIFIED:20230602T212130Z
UID:2421-1686859200-1686862800@www.illinoiscec.net
SUMMARY:CEC Town Hall
DESCRIPTION:You are invited to a CEC Townhall. Members of CEC leadership meet virtually with members to\ndiscuss topics of importance to the CEC’s mission and vision. Register in advance using the link\nbelow.
URL:https://www.illinoiscec.net/event/cec-town-hall-2/
LOCATION:IL
CATEGORIES:Chapters,Convention,Executive Board,Members,Teachers
END:VEVENT
BEGIN:VEVENT
DTSTART;VALUE=DATE:20230709
DTEND;VALUE=DATE:20230713
DTSTAMP:20260422T225239
CREATED:20230616T140154Z
LAST-MODIFIED:20230616T141039Z
UID:2437-1688860800-1689206399@www.illinoiscec.net
SUMMARY:CEC Special Education Legislative Summit
DESCRIPTION:  \nSpecial Education Legislative Summit 2023\nHeld in Washington\, D.C.\, during July\, the Special Education Legislative Summit (SELS) is an opportunity for educators from across the country to make a difference by advocating for change with Members of Congress. Come together with fellow educators and leaders in the field to learn more about advocacy and meet with your representatives to share what’s really happening in the field of special education. Hill visits will take place in person on Tuesday\, July 11th\, subject to the in-person policies of Congressional offices.
URL:https://www.illinoiscec.net/event/cec-special-education-legislative-summit/
LOCATION:IL
CATEGORIES:Executive Board,Members,Professional Development,Teachers
ATTACH;FMTTYPE=image/jpeg:https://www.illinoiscec.net/ilcec/wp-content/uploads/2023/06/sel-logo.jpg
END:VEVENT
BEGIN:VEVENT
DTSTART;VALUE=DATE:20230908
DTEND;VALUE=DATE:20230909
DTSTAMP:20260422T225239
CREATED:20230702T132710Z
LAST-MODIFIED:20230703T172157Z
UID:2563-1694131200-1694217599@www.illinoiscec.net
SUMMARY:2023 ICEC Fall Convention Early Bird Preregistration Deadline
DESCRIPTION:Preregister today for the 2023 ICEC Fall Convention. Early bird preregistration open through September 8\, 2023.
URL:https://www.illinoiscec.net/event/2023-icec-fall-convention-early-bird-preregistration-deadline/
LOCATION:Chicago Marriott Naperville\, 1801 N. Naper Blvd.\, Naperville\, IL\, 60653
CATEGORIES:Chapters,Convention,Executive Board,Members,Professional Development,Teachers
ATTACH;FMTTYPE=image/png:https://www.illinoiscec.net/ilcec/wp-content/uploads/2023/06/conv-logo-2023.png
END:VEVENT
BEGIN:VEVENT
DTSTART;TZID=America/Chicago:20230909T090000
DTEND;TZID=America/Chicago:20230909T110000
DTSTAMP:20260422T225239
CREATED:20230821T164439Z
LAST-MODIFIED:20230821T164439Z
UID:2627-1694250000-1694257200@www.illinoiscec.net
SUMMARY:ICEC Executive Board Meeting
DESCRIPTION:
URL:https://www.illinoiscec.net/event/icec-executive-board-meeting-10/
LOCATION:Chicago Marriott Naperville\, 1801 N. Naper Blvd.\, Naperville\, IL\, 60653
CATEGORIES:Chapters,Executive Board
END:VEVENT
BEGIN:VEVENT
DTSTART;VALUE=DATE:20230930
DTEND;VALUE=DATE:20231001
DTSTAMP:20260422T225239
CREATED:20230909T193011Z
LAST-MODIFIED:20230909T193011Z
UID:2676-1696032000-1696118399@www.illinoiscec.net
SUMMARY:ICEC 2023 Fall Early Bird Preregistration Deadline
DESCRIPTION:
URL:https://www.illinoiscec.net/event/icec-2023-fall-early-bird-preregistration-deadline/
LOCATION:Chicago Marriott Naperville\, 1801 N. Naper Blvd.\, Naperville\, IL\, 60653
CATEGORIES:Chapters,Convention,Executive Board,Members,PDHs,Professional Development,Teachers
ATTACH;FMTTYPE=image/png:https://www.illinoiscec.net/ilcec/wp-content/uploads/2023/06/conv-logo-2023.png
ORGANIZER;CN="ICEC":MAILTO:illinoiscecscholarship@gmail.com
END:VEVENT
BEGIN:VEVENT
DTSTART;VALUE=DATE:20231012
DTEND;VALUE=DATE:20231013
DTSTAMP:20260422T225239
CREATED:20230909T035055Z
LAST-MODIFIED:20230909T035055Z
UID:2656-1697068800-1697155199@www.illinoiscec.net
SUMMARY:ICEC Fall Convention Hotel Reservation Deadline
DESCRIPTION:Reserve your room today for the ICEC 2023 Fall Convention at the Chicago Marriott Naperville.\n\n\n\n\n\n\nStart Date: Wednesday\, November 1\, 2023\n\n\nEnd Date: Sunday\, November 5\, 2023\n\n\nLast Day to Book: Thursday\, October 12\, 2023\n\n\nThe hotel is offering a special group rate of $128/night.\n\n\n\n  \nBook your group rate for ICEC Fall Convention\n1801 N. Naper Boulevard | Naperville\, IL 60563\nwww.chicagomarriottnaperville.com \n  \n  \n  \n  \n\n\n\n\n\n\n\n\n\n\n\n\n\n\n\n\n\n\n\n\n\n\n\n\n\n\n\n\n\n\n\n  \n 
URL:https://www.illinoiscec.net/event/icec-fall-convention-hotel-reservation-deadline/
LOCATION:Chicago Marriott Naperville\, 1801 N. Naper Blvd.\, Naperville\, IL\, 60653
CATEGORIES:Chapters,Convention,Executive Board,Members,Teachers
ATTACH;FMTTYPE=image/jpeg:https://www.illinoiscec.net/ilcec/wp-content/uploads/2023/09/marriott-hotel.jpg
END:VEVENT
BEGIN:VEVENT
DTSTART;VALUE=DATE:20231013
DTEND;VALUE=DATE:20231014
DTSTAMP:20260422T225239
CREATED:20231008T232647Z
LAST-MODIFIED:20231008T232808Z
UID:2713-1697155200-1697241599@www.illinoiscec.net
SUMMARY:Ray Graham Memorial Grant Deadline
DESCRIPTION:This grant is to be used to encourage the improvement of total education for exceptional children. \nDue Date: October 13\, 2023 \nExpectations/Guidelines: \n\nThe grant is to be used as seed money and not intended to fully fund projects.\nGrantees should minimally\, match the dollar amount of the total budget of the full project.\nMaximum monetary award is $500.\nPast recipients may apply.\n\n\nApplicants must be members of CEC.\nRay Graham Memorial Grant Award Application Form
URL:https://www.illinoiscec.net/event/ray-graham-memorial-grant-deadline-october-13-2023/
LOCATION:IL
CATEGORIES:Chapters,Members,Teachers
END:VEVENT
BEGIN:VEVENT
DTSTART;VALUE=DATE:20231020
DTEND;VALUE=DATE:20231021
DTSTAMP:20260422T225239
CREATED:20231001T135643Z
LAST-MODIFIED:20231001T141021Z
UID:2700-1697760000-1697846399@www.illinoiscec.net
SUMMARY:ICEC 2023 Fall Convention Preregistration Deadline
DESCRIPTION:
URL:https://www.illinoiscec.net/event/icec-2023-fall-convention-preregistration-deadline/
LOCATION:Chicago Marriott Naperville\, 1801 N. Naper Blvd.\, Naperville\, IL\, 60653
CATEGORIES:Chapters,Convention,Executive Board,Members,PDHs,Professional Development,Teachers
ATTACH;FMTTYPE=image/jpeg:https://www.illinoiscec.net/ilcec/wp-content/uploads/2023/09/fall-convention-keynotes-2023.jpg
END:VEVENT
BEGIN:VEVENT
DTSTART;VALUE=DATE:20231102
DTEND;VALUE=DATE:20231105
DTSTAMP:20260422T225239
CREATED:20221109T191927Z
LAST-MODIFIED:20230909T193623Z
UID:2289-1698883200-1699142399@www.illinoiscec.net
SUMMARY:ICEC 2023 Fall Convention
DESCRIPTION:
URL:https://www.illinoiscec.net/event/icec-2023-fall-convention/
LOCATION:Chicago Marriott Naperville\, 1801 N. Naper Blvd.\, Naperville\, IL\, 60653
CATEGORIES:Chapters,Convention,Executive Board,Members,PDHs,Professional Development,Teachers
ATTACH;FMTTYPE=image/jpeg:https://www.illinoiscec.net/ilcec/wp-content/uploads/2023/09/fall-convention-keynotes-2023.jpg
END:VEVENT
BEGIN:VEVENT
DTSTART;TZID=America/Chicago:20240115T190000
DTEND;TZID=America/Chicago:20240115T200000
DTSTAMP:20260422T225239
CREATED:20240103T015109Z
LAST-MODIFIED:20240103T015357Z
UID:2752-1705345200-1705348800@www.illinoiscec.net
SUMMARY:ICEC 75th Anniversary Leadership Celebration Series #1
DESCRIPTION:  \nIllinois Council for Exceptional Children will celebrate its 75th Anniversary in 2024.  To celebrate this accomplishment\, the ICEC 75th Anniversary Leadership Celebration Series will be unveiled. Virtual presentations on Zoom will take place on the 15th day of every month beginning Monday\, January 15\, 7:00 -8:00 p.m.  The series will begin with a focus on professional networking. 
URL:https://www.illinoiscec.net/event/icec-75th-anniversary-leadership-celebration-series-1/
LOCATION:IL
CATEGORIES:Chapters,Executive Board,Members,Professional Development,Teachers
END:VEVENT
BEGIN:VEVENT
DTSTART;TZID=America/Chicago:20240210T090000
DTEND;TZID=America/Chicago:20240210T110000
DTSTAMP:20260422T225239
CREATED:20240110T162820Z
LAST-MODIFIED:20240110T162820Z
UID:2777-1707555600-1707562800@www.illinoiscec.net
SUMMARY:ICEC Executive Board Meeting
DESCRIPTION:
URL:https://www.illinoiscec.net/event/icec-executive-board-meeting-8/
LOCATION:Chicago Marriott Naperville\, 1801 N. Naper Blvd.\, Naperville\, IL\, 60653
CATEGORIES:Executive Board
END:VEVENT
BEGIN:VEVENT
DTSTART;TZID=America/Chicago:20240215T190000
DTEND;TZID=America/Chicago:20240215T200000
DTSTAMP:20260422T225239
CREATED:20240117T184427Z
LAST-MODIFIED:20240128T175628Z
UID:2798-1708023600-1708027200@www.illinoiscec.net
SUMMARY:ICEC 75th Anniversary Leadership Celebration Series #2
DESCRIPTION:Zoom Link
URL:https://www.illinoiscec.net/event/icec-75th-anniversary-leadership-celebration-series-2/
LOCATION:IL
CATEGORIES:Chapters,Executive Board,Members,Professional Development,Teachers
END:VEVENT
BEGIN:VEVENT
DTSTART;TZID=America/Chicago:20240216T120000
DTEND;TZID=America/Chicago:20240216T130000
DTSTAMP:20260422T225239
CREATED:20240211T013451Z
LAST-MODIFIED:20240211T143914Z
UID:2853-1708084800-1708088400@www.illinoiscec.net
SUMMARY:ITED Lunch and Learns
DESCRIPTION:Are you interested in collaborating with other special education teacher\neducators across Illinois? Please join ITED: Lunch and Learns throughout the\nspring 2024 semester for great opportunities to share ideas\, network\, and build\na community to support our current and future special education teachers. \nMeetings will take place at noon via zoom.  REGISTER HERE \n \n 
URL:https://www.illinoiscec.net/event/ited-lunch-and-learns/
LOCATION:IL
CATEGORIES:Chapters,Members,Professional Development,Teachers
END:VEVENT
BEGIN:VEVENT
DTSTART;TZID=America/Chicago:20240314T190000
DTEND;TZID=America/Chicago:20240314T200000
DTSTAMP:20260422T225239
CREATED:20240217T181922Z
LAST-MODIFIED:20240219T225857Z
UID:2924-1710442800-1710446400@www.illinoiscec.net
SUMMARY:ICEC 75th Anniversary Series #3 "Accommodating\, Aiding and Affirming Students with ADD/ADHD
DESCRIPTION:Accommodating\, Aiding and Affirming Students with ADD/ADHD\nPractical presentation on accommodations for students with ADD/ADHD presented by Dr. Meg Carroll\, St. Xavier University.
URL:https://www.illinoiscec.net/event/icec-75th-anniversary-series-3-accommodating-aiding-and-affirming-students-with-add-adhd/
LOCATION:IL
CATEGORIES:Chapters,Executive Board,Members,PDHs,Professional Development,Teachers
END:VEVENT
BEGIN:VEVENT
DTSTART;TZID=America/Chicago:20240315T120000
DTEND;TZID=America/Chicago:20240315T130000
DTSTAMP:20260422T225239
CREATED:20240211T013743Z
LAST-MODIFIED:20240211T143802Z
UID:2867-1710504000-1710507600@www.illinoiscec.net
SUMMARY:ITED Lunch and Learns
DESCRIPTION:  \n \nAre you interested in collaborating with other special education teacher\neducators across Illinois? Please join ITED: Lunch and Learns throughout the\nspring 2024 semester for great opportunities to share ideas\, network\, and build\na community to support our current and future special education teachers. \nMeetings will take place at noon via zoom.  REGISTER HERE
URL:https://www.illinoiscec.net/event/ited-lunch-and-learns-2/
LOCATION:IL
CATEGORIES:Chapters,Members,Professional Development,Teachers
END:VEVENT
BEGIN:VEVENT
DTSTART;VALUE=DATE:20240412
DTEND;VALUE=DATE:20240413
DTSTAMP:20260422T225239
CREATED:20240201T201131Z
LAST-MODIFIED:20240201T202521Z
UID:2843-1712880000-1712966399@www.illinoiscec.net
SUMMARY:ICEC Scholarships Deadline
DESCRIPTION:ICEC Leslie P. Graham Post Secondary Scholarship \n\nThe applicant must be a high school Illinois resident with a disability who plans to further their education in the higher education setting.\nDeadline for submission of scholarship applications is Friday\, April 12\, 2024.\n\nLesley P. Graham Post-Secondary Scholarship Application \nThe ICEC School-to-Work Scholarship  \n\nThe applicant must be a high school Illinois resident with a disability who plans to transition into a career setting.\nDeadline for submission of scholarship applications is Friday\, April 12\, 2024.\n\n  \nSchool-to-Work Scholarship Application
URL:https://www.illinoiscec.net/event/icec-scholarships-deadline/
LOCATION:IL
CATEGORIES:Chapters,Members,Teachers
END:VEVENT
BEGIN:VEVENT
DTSTART;TZID=America/Chicago:20240415T190000
DTEND;TZID=America/Chicago:20240415T200000
DTSTAMP:20260422T225239
CREATED:20240324T234647Z
LAST-MODIFIED:20240324T234647Z
UID:3003-1713207600-1713211200@www.illinoiscec.net
SUMMARY:75th Anniversary Leadership Series #4 "Personalized Transition Planning for Successful Futures for Students with Disabilities" IDCDT Panel
DESCRIPTION:Transition planning is a life-long process and begins when students with disabilities begin school.  This session will explore students’ transitions to successful futures.
URL:https://www.illinoiscec.net/event/75th-anniversary-leadership-series-4-personalized-transition-planning-for-successful-futures-for-students-with-disabilities-idcdt-panel/
LOCATION:IL
CATEGORIES:Chapters,Members,Professional Development,Teachers
END:VEVENT
BEGIN:VEVENT
DTSTART;TZID=America/Chicago:20240419T120000
DTEND;TZID=America/Chicago:20240419T130000
DTSTAMP:20260422T225239
CREATED:20240211T014858Z
LAST-MODIFIED:20240211T143707Z
UID:2869-1713528000-1713531600@www.illinoiscec.net
SUMMARY:ITED Lunch and Learns
DESCRIPTION:Are you interested in collaborating with other special education teacher\neducators across Illinois? Please join ITED: Lunch and Learns throughout the\nspring 2024 semester for great opportunities to share ideas\, network\, and build\na community to support our current and future special education teachers.\nMeetings will be conducted VIA zoom.   REGISTER HERE
URL:https://www.illinoiscec.net/event/ited-lunch-and-learns-3/
LOCATION:IL
CATEGORIES:Chapters,Members,Professional Development,Teachers
END:VEVENT
BEGIN:VEVENT
DTSTART;TZID=America/Chicago:20240515T190000
DTEND;TZID=America/Chicago:20240515T200000
DTSTAMP:20260422T225239
CREATED:20240418T130517Z
LAST-MODIFIED:20240418T130517Z
UID:3035-1715799600-1715803200@www.illinoiscec.net
SUMMARY:ICEC 75th Anniversary Leadership Series #5 "75 Lessons We Have Learned About Behavior Over the Years\," Bev Johns\, Learning and Behavior Consultant
DESCRIPTION:Session description:\nThe behaviors of children have changed over the years. In this session we will learn about how children have changed and what we have learned about what we can do.  We will discuss how our behavior has to change toward them and about the positive behavioral interventions that work.
URL:https://www.illinoiscec.net/event/icec-75th-anniversary-leadership-series-5-75-lessons-we-have-learned-about-behavior-over-the-years-bev-johns-learning-and-behavior-consultant/
LOCATION:IL
CATEGORIES:Chapters,Members,Professional Development,Teachers
END:VEVENT
BEGIN:VEVENT
DTSTART;VALUE=DATE:20240517
DTEND;VALUE=DATE:20240518
DTSTAMP:20260422T225239
CREATED:20240228T231331Z
LAST-MODIFIED:20240228T231331Z
UID:2964-1715904000-1715990399@www.illinoiscec.net
SUMMARY:ICEC 2024 Convention Presentation Proposals Deadline
DESCRIPTION:The Illinois Council for Exceptional Children (ICEC) will hold the Annual Fall Convention 2024 at the Chicago Marriott Naperville in full compliance with health and safety recommendations. Special educators\, related service providers\, teacher educators\, preservice special educators\, administrators\, policy makers\, caregivers\, parents\, and special education advocates are all encouraged to attend this Convention. We invite presentations and posters that address our Convention theme\, 2024: \n  \nCelebrating Student Success Every Day\n  \nThe deadline for presentation proposals is Friday\, May 17th\, 2024. Submissions may be made only electronically using the following links: \nICEC Fall Convention 2024: Call for Presentation Proposals
URL:https://www.illinoiscec.net/event/icec-2024-convention-presentation-proposals-deadline/
LOCATION:Chicago Marriott Naperville\, 1801 N. Naper Blvd.\, Naperville\, IL\, 60653
CATEGORIES:Chapters,Convention,Members,Professional Development,Teachers
END:VEVENT
BEGIN:VEVENT
DTSTART;TZID=America/Chicago:20240608T090000
DTEND;TZID=America/Chicago:20240608T110000
DTSTAMP:20260422T225239
CREATED:20240110T163152Z
LAST-MODIFIED:20240201T201356Z
UID:2779-1717837200-1717844400@www.illinoiscec.net
SUMMARY:ICEC Executive Board Meeting
DESCRIPTION:
URL:https://www.illinoiscec.net/event/icec-executive-board-meeting-11/
LOCATION:Chicago Marriott Naperville\, 1801 N. Naper Blvd.\, Naperville\, IL\, 60653
CATEGORIES:Chapters,Members,Teachers
END:VEVENT
BEGIN:VEVENT
DTSTART;TZID=America/Chicago:20240615T090000
DTEND;TZID=America/Chicago:20240615T100000
DTSTAMP:20260422T225239
CREATED:20240518T202152Z
LAST-MODIFIED:20240518T202152Z
UID:3145-1718442000-1718445600@www.illinoiscec.net
SUMMARY:ICEC 75th Anniversary Leadership Series #6 "When Leaders Collaborate: The Value of Parental Involvement"
DESCRIPTION:Dr. Gloria McDaniel-Hall and Dr. Jamillah Gilbert observe that we rarely see parents/guardians as educational leaders. They further observe that parents/guardians are both the primary educational leaders in a child’s life and their very first teacher. They believe that it is so important that special education teachers find reasons and ways to collaborate with parents as positively and productively as possible. In this presentation\, Dr. McDaniel-Hall and Dr. Gilbert will discuss teacher perception of parental involvement and proven and effective strategies for increasing parental engagement.
URL:https://www.illinoiscec.net/event/icec-75th-anniversary-leadership-series-6-when-leaders-collaborate-the-value-of-parental-involvement/
LOCATION:IL
CATEGORIES:Chapters,Executive Board,Members,Professional Development,Teachers
ATTACH;FMTTYPE=image/png:https://www.illinoiscec.net/ilcec/wp-content/uploads/2024/05/75th-ann-june-15.png
END:VEVENT
BEGIN:VEVENT
DTSTART;TZID=America/Chicago:20240715T100000
DTEND;TZID=America/Chicago:20240715T110000
DTSTAMP:20260422T225239
CREATED:20240624T160639Z
LAST-MODIFIED:20240624T160639Z
UID:3177-1721037600-1721041200@www.illinoiscec.net
SUMMARY:ICEC 75th Anniversary Leadership Series #7 "Visit the ICEC Archives" with April Anderson Zorn\, ISU Archivist
DESCRIPTION:
URL:https://www.illinoiscec.net/event/icec-75th-anniversary-leadership-series-7-visit-the-icec-archives-with-april-anderson-zorn-isu-archivist/
LOCATION:IL
CATEGORIES:Chapters,Executive Board,Members,Teachers
END:VEVENT
BEGIN:VEVENT
DTSTART;TZID=America/Chicago:20240815T190000
DTEND;TZID=America/Chicago:20240815T200000
DTSTAMP:20260422T225239
CREATED:20240716T025055Z
LAST-MODIFIED:20240716T025055Z
UID:3209-1723748400-1723752000@www.illinoiscec.net
SUMMARY:75th Anniversary Leadership Series #8 "Therapeutic Behavioral Interventions for Students with Autism and Developmental Disabilities\," Dr. Jessica Zanton\, EIU and Dr. Louise Yoho\, SIU
DESCRIPTION:Participants will learn about specific interventions that address therapeutic behavior\nmanagement for students with autism and developmental disabilities. \nJoin Zoom Meeting\nhttps://illinoisstate.zoom.us/j/92877143945\nMeeting ID: 928 7714 3945
URL:https://www.illinoiscec.net/event/75th-anniversary-leadership-series-8-therapeutic-behavioral-interventions-for-students-with-autism-and-developmental-disabilities-dr-jessica-zanton-eiu-and-dr-louise-yoho-siu/
LOCATION:IL
CATEGORIES:Chapters,Members,Professional Development,Teachers
END:VEVENT
BEGIN:VEVENT
DTSTART;TZID=America/Chicago:20240914T090000
DTEND;TZID=America/Chicago:20240914T110000
DTSTAMP:20260422T225239
CREATED:20240110T163422Z
LAST-MODIFIED:20240110T163422Z
UID:2781-1726304400-1726311600@www.illinoiscec.net
SUMMARY:ICEC Executive Board Meeting
DESCRIPTION:
URL:https://www.illinoiscec.net/event/icec-executive-board-meeting-12/
LOCATION:Chicago Marriott Naperville\, 1801 N. Naper Blvd.\, Naperville\, IL\, 60653
CATEGORIES:Executive Board
END:VEVENT
BEGIN:VEVENT
DTSTART;VALUE=DATE:20240915
DTEND;VALUE=DATE:20240916
DTSTAMP:20260422T225239
CREATED:20240701T000307Z
LAST-MODIFIED:20240701T000307Z
UID:3189-1726358400-1726444799@www.illinoiscec.net
SUMMARY:2024 Professional Awards Nominations Deadline
DESCRIPTION:Illinois Council for Exceptional Children Professional Awards\nDue date: September 15th of the current year \nAwards in several categories given annually to honor the exceptional service\, commitment and contribution to the children of Illinois\, the Illinois Council for Exceptional Children and Professionals in the Educational (general and special education) community. \nPlease nominate the people who inspire you for an award.
URL:https://www.illinoiscec.net/event/2024-professional-awards-nominations-deadline/
LOCATION:IL
CATEGORIES:Chapters,Convention,Executive Board,Members,Teachers
END:VEVENT
BEGIN:VEVENT
DTSTART;TZID=America/Chicago:20240916T190000
DTEND;TZID=America/Chicago:20240916T200000
DTSTAMP:20260422T225239
CREATED:20240817T185134Z
LAST-MODIFIED:20240817T185532Z
UID:3230-1726513200-1726516800@www.illinoiscec.net
SUMMARY:ICEC 75th Anniversary Series #9 "Empowered Partnerships: Cultivating Effective Collaboration with Diverse Caregivers\," Chanita Jones\, M.Ed.
DESCRIPTION:
URL:https://www.illinoiscec.net/event/icec-75th-anniversary-series-9-empowered-partnerships-cultivating-effective-collaboration-with-diverse-caregivers/
LOCATION:IL
CATEGORIES:Chapters,Members,Professional Development,Teachers
END:VEVENT
BEGIN:VEVENT
DTSTART;TZID=America/Chicago:20240924T163000
DTEND;TZID=America/Chicago:20240924T183000
DTSTAMP:20260422T225239
CREATED:20240827T233543Z
LAST-MODIFIED:20240827T234303Z
UID:3242-1727195400-1727202600@www.illinoiscec.net
SUMMARY:ICEC Chapter 99--"Working with Students Who Are Aggressive\," Dr. Richard Van Acker
DESCRIPTION:Dr. Rick Van Acker\, Professor Emeritus at University of Illinois Chicago\n“Working with Students Who Are Aggressive”\nDr. Van Acker will discuss why students become aggressive\, how to prevent aggression\,\nand how to intervene appropriately when aggression does occur. \nThis 2-hour workshops will be held virtually using ZOOM from 4:30 to 6:30 p.m.\nProfessional development credits will be offered for all sessions. \n  \nChapter 99 Fall 2024 Program Flyer\n 
URL:https://www.illinoiscec.net/event/icec-chapter-99-working-with-students-who-are-aggressive-dr-richard-van-acker/
LOCATION:Zoom
CATEGORIES:Chapters,Members,PDHs,Professional Development,Teachers
ORGANIZER;CN="ICEC Chapter 99":MAILTO:cecchapter99@gmail.com
END:VEVENT
BEGIN:VEVENT
DTSTART;TZID=America/Chicago:20241015T190000
DTEND;TZID=America/Chicago:20241015T200000
DTSTAMP:20260422T225239
CREATED:20240920T030712Z
LAST-MODIFIED:20240924T024235Z
UID:3276-1729018800-1729022400@www.illinoiscec.net
SUMMARY:ICEC 75th Anniversary Leadership Series #10 "Teaching Content & Literacy to Students with Dis/abilities: Using Literacy Across the Disciplines\," Kara Kennedy\, Doctoral Candidate\, NIU
DESCRIPTION:Teaching Content & Literacy to Students with Dis/abilities: Using Literacy \nAcross the Disciplines \nThis session will cover an overview of disciplinary literacy and what it means for\nstudents with dis/abilities. Disciplinary literacy is one approach to teaching\ncomprehension and content concurrently at the secondary level. Discussion and\ndemonstration of aspects of the three pillars (habits of thinking and practice\,\nlanguage use\, and epistemology) of disciplinary literacy will show how it works with\nmultimodality\, digital literacies\, and is student-centered. It will include practical\,\nresearch-informed and evidence=based strategies that teachers and leaders can\nbring back to their classrooms\, ready for implementation! \nJoin Zoom Meeting\nhttps://illinoisstate.zoom.us/j/92978321588\nMeeting ID: 929 7832 1588
URL:https://www.illinoiscec.net/event/icec-75th-anniversary-leadership-series-10-teaching-content-literacy-to-students-with-dis-abilities-using-literacy-across-the-disciplines-kara-kennedy-doctoral-candidate-niu/
LOCATION:IL
CATEGORIES:Chapters,Members,PDHs,Professional Development,Teachers
ATTACH;FMTTYPE=image/png:https://www.illinoiscec.net/ilcec/wp-content/uploads/2024/09/75th-Ann-oct-15-1.png
END:VEVENT
BEGIN:VEVENT
DTSTART;VALUE=DATE:20241023
DTEND;VALUE=DATE:20241024
DTSTAMP:20260422T225239
CREATED:20240701T000847Z
LAST-MODIFIED:20240701T000847Z
UID:3192-1729641600-1729727999@www.illinoiscec.net
SUMMARY:2024 Ray Graham Memorial Grant Application Deadline
DESCRIPTION:This grant is to be used to encourage the improvement of total education for exceptional children.\nDue Date: October 13\, 2024 midnight central standard time \nExpectations/Guidelines:\nThe grant is to be used as seed money and not intended to fully fund projects.\nGrantees should minimally\, match the dollar amount of the total budget of the full project.\nMaximum monetary award is $500.\nPast recipients may apply.\nApplicants must be members of CEC
URL:https://www.illinoiscec.net/event/2024-ray-graham-memorial-grant-application-deadline/
LOCATION:IL
CATEGORIES:Chapters,Executive Board,Members,Teachers
END:VEVENT
END:VCALENDAR