BEGIN:VCALENDAR
VERSION:2.0
PRODID:-//Illinois Council for Exceptional Children - ECPv6.15.20//NONSGML v1.0//EN
CALSCALE:GREGORIAN
METHOD:PUBLISH
X-ORIGINAL-URL:https://www.illinoiscec.net
X-WR-CALDESC:Events for Illinois Council for Exceptional Children
REFRESH-INTERVAL;VALUE=DURATION:PT1H
X-Robots-Tag:noindex
X-PUBLISHED-TTL:PT1H
BEGIN:VTIMEZONE
TZID:America/Chicago
BEGIN:DAYLIGHT
TZOFFSETFROM:-0600
TZOFFSETTO:-0500
TZNAME:CDT
DTSTART:20230312T080000
END:DAYLIGHT
BEGIN:STANDARD
TZOFFSETFROM:-0500
TZOFFSETTO:-0600
TZNAME:CST
DTSTART:20231105T070000
END:STANDARD
BEGIN:DAYLIGHT
TZOFFSETFROM:-0600
TZOFFSETTO:-0500
TZNAME:CDT
DTSTART:20240310T080000
END:DAYLIGHT
BEGIN:STANDARD
TZOFFSETFROM:-0500
TZOFFSETTO:-0600
TZNAME:CST
DTSTART:20241103T070000
END:STANDARD
BEGIN:DAYLIGHT
TZOFFSETFROM:-0600
TZOFFSETTO:-0500
TZNAME:CDT
DTSTART:20250309T080000
END:DAYLIGHT
BEGIN:STANDARD
TZOFFSETFROM:-0500
TZOFFSETTO:-0600
TZNAME:CST
DTSTART:20251102T070000
END:STANDARD
BEGIN:DAYLIGHT
TZOFFSETFROM:-0600
TZOFFSETTO:-0500
TZNAME:CDT
DTSTART:20260308T080000
END:DAYLIGHT
BEGIN:STANDARD
TZOFFSETFROM:-0500
TZOFFSETTO:-0600
TZNAME:CST
DTSTART:20261101T070000
END:STANDARD
BEGIN:DAYLIGHT
TZOFFSETFROM:-0600
TZOFFSETTO:-0500
TZNAME:CDT
DTSTART:20270314T080000
END:DAYLIGHT
BEGIN:STANDARD
TZOFFSETFROM:-0500
TZOFFSETTO:-0600
TZNAME:CST
DTSTART:20271107T070000
END:STANDARD
END:VTIMEZONE
BEGIN:VEVENT
DTSTART;TZID=America/Chicago:20240515T190000
DTEND;TZID=America/Chicago:20240515T200000
DTSTAMP:20260423T042106
CREATED:20240418T130517Z
LAST-MODIFIED:20240418T130517Z
UID:3035-1715799600-1715803200@www.illinoiscec.net
SUMMARY:ICEC 75th Anniversary Leadership Series #5 "75 Lessons We Have Learned About Behavior Over the Years\," Bev Johns\, Learning and Behavior Consultant
DESCRIPTION:Session description:\nThe behaviors of children have changed over the years. In this session we will learn about how children have changed and what we have learned about what we can do.  We will discuss how our behavior has to change toward them and about the positive behavioral interventions that work.
URL:https://www.illinoiscec.net/event/icec-75th-anniversary-leadership-series-5-75-lessons-we-have-learned-about-behavior-over-the-years-bev-johns-learning-and-behavior-consultant/
CATEGORIES:Chapters,Members,Professional Development,Teachers
END:VEVENT
BEGIN:VEVENT
DTSTART;VALUE=DATE:20240517
DTEND;VALUE=DATE:20240518
DTSTAMP:20260423T042106
CREATED:20240228T231331Z
LAST-MODIFIED:20240228T231331Z
UID:2964-1715904000-1715990399@www.illinoiscec.net
SUMMARY:ICEC 2024 Convention Presentation Proposals Deadline
DESCRIPTION:The Illinois Council for Exceptional Children (ICEC) will hold the Annual Fall Convention 2024 at the Chicago Marriott Naperville in full compliance with health and safety recommendations. Special educators\, related service providers\, teacher educators\, preservice special educators\, administrators\, policy makers\, caregivers\, parents\, and special education advocates are all encouraged to attend this Convention. We invite presentations and posters that address our Convention theme\, 2024: \n  \nCelebrating Student Success Every Day\n  \nThe deadline for presentation proposals is Friday\, May 17th\, 2024. Submissions may be made only electronically using the following links: \nICEC Fall Convention 2024: Call for Presentation Proposals
URL:https://www.illinoiscec.net/event/icec-2024-convention-presentation-proposals-deadline/
LOCATION:Chicago Marriott Naperville\, 1801 N. Naper Blvd.\, Naperville\, IL\, 60653
CATEGORIES:Chapters,Convention,Members,Professional Development,Teachers
END:VEVENT
BEGIN:VEVENT
DTSTART;TZID=America/Chicago:20240608T090000
DTEND;TZID=America/Chicago:20240608T110000
DTSTAMP:20260423T042106
CREATED:20240110T163152Z
LAST-MODIFIED:20240201T201356Z
UID:2779-1717837200-1717844400@www.illinoiscec.net
SUMMARY:ICEC Executive Board Meeting
DESCRIPTION:
URL:https://www.illinoiscec.net/event/icec-executive-board-meeting-11/
LOCATION:Chicago Marriott Naperville\, 1801 N. Naper Blvd.\, Naperville\, IL\, 60653
CATEGORIES:Chapters,Members,Teachers
END:VEVENT
BEGIN:VEVENT
DTSTART;TZID=America/Chicago:20240615T090000
DTEND;TZID=America/Chicago:20240615T100000
DTSTAMP:20260423T042106
CREATED:20240518T202152Z
LAST-MODIFIED:20240518T202152Z
UID:3145-1718442000-1718445600@www.illinoiscec.net
SUMMARY:ICEC 75th Anniversary Leadership Series #6 "When Leaders Collaborate: The Value of Parental Involvement"
DESCRIPTION:Dr. Gloria McDaniel-Hall and Dr. Jamillah Gilbert observe that we rarely see parents/guardians as educational leaders. They further observe that parents/guardians are both the primary educational leaders in a child’s life and their very first teacher. They believe that it is so important that special education teachers find reasons and ways to collaborate with parents as positively and productively as possible. In this presentation\, Dr. McDaniel-Hall and Dr. Gilbert will discuss teacher perception of parental involvement and proven and effective strategies for increasing parental engagement.
URL:https://www.illinoiscec.net/event/icec-75th-anniversary-leadership-series-6-when-leaders-collaborate-the-value-of-parental-involvement/
CATEGORIES:Chapters,Executive Board,Members,Professional Development,Teachers
ATTACH;FMTTYPE=image/png:https://www.illinoiscec.net/ilcec/wp-content/uploads/2024/05/75th-ann-june-15.png
END:VEVENT
BEGIN:VEVENT
DTSTART;TZID=America/Chicago:20240715T100000
DTEND;TZID=America/Chicago:20240715T110000
DTSTAMP:20260423T042106
CREATED:20240624T160639Z
LAST-MODIFIED:20240624T160639Z
UID:3177-1721037600-1721041200@www.illinoiscec.net
SUMMARY:ICEC 75th Anniversary Leadership Series #7 "Visit the ICEC Archives" with April Anderson Zorn\, ISU Archivist
DESCRIPTION:
URL:https://www.illinoiscec.net/event/icec-75th-anniversary-leadership-series-7-visit-the-icec-archives-with-april-anderson-zorn-isu-archivist/
CATEGORIES:Chapters,Executive Board,Members,Teachers
END:VEVENT
BEGIN:VEVENT
DTSTART;TZID=America/Chicago:20240815T190000
DTEND;TZID=America/Chicago:20240815T200000
DTSTAMP:20260423T042106
CREATED:20240716T025055Z
LAST-MODIFIED:20240716T025055Z
UID:3209-1723748400-1723752000@www.illinoiscec.net
SUMMARY:75th Anniversary Leadership Series #8 "Therapeutic Behavioral Interventions for Students with Autism and Developmental Disabilities\," Dr. Jessica Zanton\, EIU and Dr. Louise Yoho\, SIU
DESCRIPTION:Participants will learn about specific interventions that address therapeutic behavior\nmanagement for students with autism and developmental disabilities. \nJoin Zoom Meeting\nhttps://illinoisstate.zoom.us/j/92877143945\nMeeting ID: 928 7714 3945
URL:https://www.illinoiscec.net/event/75th-anniversary-leadership-series-8-therapeutic-behavioral-interventions-for-students-with-autism-and-developmental-disabilities-dr-jessica-zanton-eiu-and-dr-louise-yoho-siu/
CATEGORIES:Chapters,Members,Professional Development,Teachers
END:VEVENT
BEGIN:VEVENT
DTSTART;TZID=America/Chicago:20240914T090000
DTEND;TZID=America/Chicago:20240914T110000
DTSTAMP:20260423T042106
CREATED:20240110T163422Z
LAST-MODIFIED:20240110T163422Z
UID:2781-1726304400-1726311600@www.illinoiscec.net
SUMMARY:ICEC Executive Board Meeting
DESCRIPTION:
URL:https://www.illinoiscec.net/event/icec-executive-board-meeting-12/
LOCATION:Chicago Marriott Naperville\, 1801 N. Naper Blvd.\, Naperville\, IL\, 60653
CATEGORIES:Executive Board
END:VEVENT
BEGIN:VEVENT
DTSTART;VALUE=DATE:20240915
DTEND;VALUE=DATE:20240916
DTSTAMP:20260423T042106
CREATED:20240701T000307Z
LAST-MODIFIED:20240701T000307Z
UID:3189-1726358400-1726444799@www.illinoiscec.net
SUMMARY:2024 Professional Awards Nominations Deadline
DESCRIPTION:Illinois Council for Exceptional Children Professional Awards\nDue date: September 15th of the current year \nAwards in several categories given annually to honor the exceptional service\, commitment and contribution to the children of Illinois\, the Illinois Council for Exceptional Children and Professionals in the Educational (general and special education) community. \nPlease nominate the people who inspire you for an award.
URL:https://www.illinoiscec.net/event/2024-professional-awards-nominations-deadline/
CATEGORIES:Chapters,Convention,Executive Board,Members,Teachers
END:VEVENT
BEGIN:VEVENT
DTSTART;TZID=America/Chicago:20240916T190000
DTEND;TZID=America/Chicago:20240916T200000
DTSTAMP:20260423T042106
CREATED:20240817T185134Z
LAST-MODIFIED:20240817T185532Z
UID:3230-1726513200-1726516800@www.illinoiscec.net
SUMMARY:ICEC 75th Anniversary Series #9 "Empowered Partnerships: Cultivating Effective Collaboration with Diverse Caregivers\," Chanita Jones\, M.Ed.
DESCRIPTION:
URL:https://www.illinoiscec.net/event/icec-75th-anniversary-series-9-empowered-partnerships-cultivating-effective-collaboration-with-diverse-caregivers/
CATEGORIES:Chapters,Members,Professional Development,Teachers
END:VEVENT
BEGIN:VEVENT
DTSTART;TZID=America/Chicago:20240924T163000
DTEND;TZID=America/Chicago:20240924T183000
DTSTAMP:20260423T042106
CREATED:20240827T233543Z
LAST-MODIFIED:20240827T234303Z
UID:3242-1727195400-1727202600@www.illinoiscec.net
SUMMARY:ICEC Chapter 99--"Working with Students Who Are Aggressive\," Dr. Richard Van Acker
DESCRIPTION:Dr. Rick Van Acker\, Professor Emeritus at University of Illinois Chicago\n“Working with Students Who Are Aggressive”\nDr. Van Acker will discuss why students become aggressive\, how to prevent aggression\,\nand how to intervene appropriately when aggression does occur. \nThis 2-hour workshops will be held virtually using ZOOM from 4:30 to 6:30 p.m.\nProfessional development credits will be offered for all sessions. \n  \nChapter 99 Fall 2024 Program Flyer\n 
URL:https://www.illinoiscec.net/event/icec-chapter-99-working-with-students-who-are-aggressive-dr-richard-van-acker/
LOCATION:Zoom
CATEGORIES:Chapters,Members,PDHs,Professional Development,Teachers
ORGANIZER;CN="ICEC Chapter 99":MAILTO:cecchapter99@gmail.com
END:VEVENT
BEGIN:VEVENT
DTSTART;TZID=America/Chicago:20241015T190000
DTEND;TZID=America/Chicago:20241015T200000
DTSTAMP:20260423T042106
CREATED:20240920T030712Z
LAST-MODIFIED:20240924T024235Z
UID:3276-1729018800-1729022400@www.illinoiscec.net
SUMMARY:ICEC 75th Anniversary Leadership Series #10 "Teaching Content & Literacy to Students with Dis/abilities: Using Literacy Across the Disciplines\," Kara Kennedy\, Doctoral Candidate\, NIU
DESCRIPTION:Teaching Content & Literacy to Students with Dis/abilities: Using Literacy \nAcross the Disciplines \nThis session will cover an overview of disciplinary literacy and what it means for\nstudents with dis/abilities. Disciplinary literacy is one approach to teaching\ncomprehension and content concurrently at the secondary level. Discussion and\ndemonstration of aspects of the three pillars (habits of thinking and practice\,\nlanguage use\, and epistemology) of disciplinary literacy will show how it works with\nmultimodality\, digital literacies\, and is student-centered. It will include practical\,\nresearch-informed and evidence=based strategies that teachers and leaders can\nbring back to their classrooms\, ready for implementation! \nJoin Zoom Meeting\nhttps://illinoisstate.zoom.us/j/92978321588\nMeeting ID: 929 7832 1588
URL:https://www.illinoiscec.net/event/icec-75th-anniversary-leadership-series-10-teaching-content-literacy-to-students-with-dis-abilities-using-literacy-across-the-disciplines-kara-kennedy-doctoral-candidate-niu/
CATEGORIES:Chapters,Members,PDHs,Professional Development,Teachers
ATTACH;FMTTYPE=image/png:https://www.illinoiscec.net/ilcec/wp-content/uploads/2024/09/75th-Ann-oct-15-1.png
END:VEVENT
BEGIN:VEVENT
DTSTART;VALUE=DATE:20241023
DTEND;VALUE=DATE:20241024
DTSTAMP:20260423T042106
CREATED:20240701T000847Z
LAST-MODIFIED:20240701T000847Z
UID:3192-1729641600-1729727999@www.illinoiscec.net
SUMMARY:2024 Ray Graham Memorial Grant Application Deadline
DESCRIPTION:This grant is to be used to encourage the improvement of total education for exceptional children.\nDue Date: October 13\, 2024 midnight central standard time \nExpectations/Guidelines:\nThe grant is to be used as seed money and not intended to fully fund projects.\nGrantees should minimally\, match the dollar amount of the total budget of the full project.\nMaximum monetary award is $500.\nPast recipients may apply.\nApplicants must be members of CEC
URL:https://www.illinoiscec.net/event/2024-ray-graham-memorial-grant-application-deadline/
CATEGORIES:Chapters,Executive Board,Members,Teachers
END:VEVENT
BEGIN:VEVENT
DTSTART;VALUE=DATE:20241028
DTEND;VALUE=DATE:20241029
DTSTAMP:20260423T042106
CREATED:20241018T040308Z
LAST-MODIFIED:20241018T040308Z
UID:3312-1730073600-1730159999@www.illinoiscec.net
SUMMARY:ICEC Fall 2024 Convention Room Reservation Deadline
DESCRIPTION:Deadline for room reservations at the convention rate at the Chicago Marriott Naperville hotel is October 28\, 2024.\nConvention preregistration: https://www.illinoiscec.net/convention/online-preregistration/\nHotel accommodations: Book your group room rate of $132 today!
URL:https://www.illinoiscec.net/event/icec-fall-2024-convention-room-reservation-deadline/
LOCATION:Chicago Marriott Naperville\, 1801 N. Naper Blvd.\, Naperville\, IL\, 60653
CATEGORIES:Chapters,Convention,Executive Board,Members,PDHs,Professional Development,Teachers
END:VEVENT
BEGIN:VEVENT
DTSTART;TZID=America/Chicago:20241029T163000
DTEND;TZID=America/Chicago:20241029T183000
DTSTAMP:20260423T042106
CREATED:20240827T234203Z
LAST-MODIFIED:20240827T234203Z
UID:3249-1730219400-1730226600@www.illinoiscec.net
SUMMARY:ICEC Chapter 99--"They Just Can't Get Their Act Together: 100 Tips for Executive Function Skills\," Bev Johns
DESCRIPTION:Bev Johns\, Learning and Behavior Consultant and Author\n“They Just Can’t Get Their Act Together: 100 tips for Executive Function Skills”\nExecutive function skills such as organization\, time management\, planning\, emotional regulation and impulse control\nare critical for student success. Bev will share a variety of strategies that can be used to teach these skills. \nThis 2-hour workshops will be held virtually using ZOOM from 4:30 to 6:30 p.m.\nProfessional development credits will be offered for all sessions. \nICEC Chapter 99 Fall 2024 Program Flyer
URL:https://www.illinoiscec.net/event/icec-chapter-99-they-just-cant-get-their-act-together-100-tips-for-executive-function-skills-bev-johns/
LOCATION:Zoom
CATEGORIES:Chapters,Members,PDHs,Professional Development,Teachers
ORGANIZER;CN="ICEC Chapter 99":MAILTO:cecchapter99@gmail.com
END:VEVENT
BEGIN:VEVENT
DTSTART;VALUE=DATE:20241104
DTEND;VALUE=DATE:20241105
DTSTAMP:20260423T042106
CREATED:20241102T020506Z
LAST-MODIFIED:20241102T020600Z
UID:3325-1730678400-1730764799@www.illinoiscec.net
SUMMARY:ICEC Fall 2024 Convention Preregistration Deadline
DESCRIPTION:Preregistration for the ICEC Fall 2024 Convention ends November 4\, 2024. \nOnline Preregistration Link
URL:https://www.illinoiscec.net/event/icec-fall-2024-convention-preregistration-deadline/
LOCATION:Chicago Marriott Naperville\, 1801 N. Naper Blvd.\, Naperville\, IL\, 60653
CATEGORIES:Chapters,Convention,Executive Board,Members,PDHs,Professional Development,Teachers
ATTACH;FMTTYPE=image/png:https://www.illinoiscec.net/ilcec/wp-content/uploads/2024/11/ICEC-Social-Media-2-1.png
END:VEVENT
BEGIN:VEVENT
DTSTART;VALUE=DATE:20241114
DTEND;VALUE=DATE:20241117
DTSTAMP:20260423T042106
CREATED:20240110T163719Z
LAST-MODIFIED:20240211T215527Z
UID:2783-1731542400-1731801599@www.illinoiscec.net
SUMMARY:ICEC 2024 Fall Convention
DESCRIPTION:Mark your calendars and plan to attend the ICEC 2024 Fall Convention at the Chicago Marriott Naperville November 14-15\, 2024. \nCharting the Course: Bridging the Past and the Future
URL:https://www.illinoiscec.net/event/icec-2024-fall-convention/
LOCATION:Chicago Marriott Naperville\, 1801 N. Naper Blvd.\, Naperville\, IL\, 60653
CATEGORIES:Chapters,Convention,Executive Board,Members,PDHs,Professional Development,Teachers
END:VEVENT
BEGIN:VEVENT
DTSTART;TZID=America/Chicago:20241216T190000
DTEND;TZID=America/Chicago:20241216T200000
DTSTAMP:20260423T042106
CREATED:20241204T011532Z
LAST-MODIFIED:20241204T011532Z
UID:3360-1734375600-1734379200@www.illinoiscec.net
SUMMARY:ICEC 75th Anniversary Leadership Series #12 "Songs of Success: Music Therapy in Special Education\," Bryan Lindskog\, MAIOP\, MT-BC\, Easterseals Chicagoland and Greater Rockford
DESCRIPTION:This interactive session will demonstrate the use of music therapy interventions in special education settings\, specifically those serving students on the autism spectrum and students with intellectual\, emotional\, and learning differences.  The session will also identify ways in which music can support students’ educational and functional goals while being integrated into the classroom.\n\nBring your colleagues\, friends\, family\, and all those who appreciate the centrality of music in all our lives and its special place in special education programming. \n \nJoin Zoom Meeting:\nhttps://illinoisstate.zoom.us/j/82054038708\nMeeting ID: 820 5403 8708
URL:https://www.illinoiscec.net/event/icec-75th-anniversary-leadership-series-12-songs-of-success-music-therapy-in-special-education-bryan-lindskog-maiop-mt-bc-easterseals-chicagoland-and-greater-rockford/
CATEGORIES:Chapters,Executive Board,Members,Professional Development,Teachers
ATTACH;FMTTYPE=image/png:https://www.illinoiscec.net/ilcec/wp-content/uploads/2024/12/75th-ann-dec-16.png
END:VEVENT
BEGIN:VEVENT
DTSTART;TZID=America/Chicago:20250208T090000
DTEND;TZID=America/Chicago:20250208T110000
DTSTAMP:20260423T042106
CREATED:20250126T193422Z
LAST-MODIFIED:20250126T193422Z
UID:3385-1739005200-1739012400@www.illinoiscec.net
SUMMARY:ICEC Executive Board Meeting
DESCRIPTION:
URL:https://www.illinoiscec.net/event/icec-executive-board-meeting-13/
LOCATION:Chicago Marriott Naperville\, 1801 N. Naper Blvd.\, Naperville\, IL\, 60653
CATEGORIES:Executive Board
END:VEVENT
BEGIN:VEVENT
DTSTART;VALUE=DATE:20250228
DTEND;VALUE=DATE:20250301
DTSTAMP:20260423T042106
CREATED:20250212T223905Z
LAST-MODIFIED:20250212T223905Z
UID:3433-1740700800-1740787199@www.illinoiscec.net
SUMMARY:ICEC Spring Leadership Conference RSVP Deadline
DESCRIPTION:Spring Conference RSVP
URL:https://www.illinoiscec.net/event/icec-spring-leadership-conference-rsvp-deadline/
LOCATION:ISU Alumni Center\, 1101 N Main Street\, Normal\, IL\, 61761
CATEGORIES:Chapters,Executive Board,Members,Professional Development,Teachers
END:VEVENT
BEGIN:VEVENT
DTSTART;TZID=America/Chicago:20250405T090000
DTEND;TZID=America/Chicago:20250405T140000
DTSTAMP:20260423T042106
CREATED:20250212T221123Z
LAST-MODIFIED:20250313T194701Z
UID:3419-1743843600-1743861600@www.illinoiscec.net
SUMMARY:ICEC Spring Leadership Conference
DESCRIPTION:  \n\nSpring Conference RSVP
URL:https://www.illinoiscec.net/event/icec-spring-leadership-conference/
LOCATION:ISU Alumni Center\, 1101 N Main Street\, Normal\, IL\, 61761
CATEGORIES:Chapters,Executive Board,Members,Professional Development,Teachers
END:VEVENT
BEGIN:VEVENT
DTSTART;VALUE=DATE:20250501
DTEND;VALUE=DATE:20250508
DTSTAMP:20260423T042106
CREATED:20250305T202128Z
LAST-MODIFIED:20250305T202128Z
UID:3454-1746057600-1746662399@www.illinoiscec.net
SUMMARY:Exceptional Children's Week
DESCRIPTION:
URL:https://www.illinoiscec.net/event/exceptional-childrens-week-2/
CATEGORIES:Chapters,Members,Teachers
END:VEVENT
BEGIN:VEVENT
DTSTART;TZID=America/Chicago:20250801T080000
DTEND;TZID=America/Chicago:20250801T150000
DTSTAMP:20260423T042106
CREATED:20250516T213831Z
LAST-MODIFIED:20250516T214201Z
UID:3525-1754035200-1754060400@www.illinoiscec.net
SUMMARY:ILCCBD Summer Drive-in Conference
DESCRIPTION:Summer Institute: Get Ready for School\, August 1\, Northfield Inn and Suites\, Springfield\, sponsored by Illinois Council for Children with Behavioral Disorders.  See this link for registration details:  https://lp.constantcontactpages.com/ev/reg/969me2q \nGET THE 2025-26 SCHOOL YEAR OFF TO A GREAT START with practical ideas for addressing the challenges teachers of students with E/BD face daily as they strive to meet students’ learning needs. \n  \nPastries and coffee will be offered at registration from 7:30 to 8:00 a.m. Exhibits will be available all day. Enjoy lunch on your own from 11:50 to 1:00 or bring a sack lunch and discuss key legislation passed by the Illinois General Assembly. \n  \nYou may also reserve a room for $129 per night until June 28th by calling the conference hotel directly at 217-523-7900 and mentioning ILCCBD.
URL:https://www.illinoiscec.net/event/ilccbd-summer-drive-in-conference/
LOCATION:Northfield Inn and Suites\, 3280 Northfield Dr\, Springfield\, IL\, 62702\, United States
CATEGORIES:Chapters,Executive Board,Members,PDHs,Professional Development,Teachers
ATTACH;FMTTYPE=image/png:https://www.illinoiscec.net/ilcec/wp-content/uploads/2019/06/ilccbd.png
END:VEVENT
BEGIN:VEVENT
DTSTART;TZID=America/Chicago:20250912T080000
DTEND;TZID=America/Chicago:20250912T170000
DTSTAMP:20260423T042106
CREATED:20250610T191531Z
LAST-MODIFIED:20250610T191531Z
UID:3543-1757664000-1757696400@www.illinoiscec.net
SUMMARY:ICEC 2025 Fall Convention Program Advertisement Request
DESCRIPTION:Advertisements in the ICEC Fall Convention Program 2025 that support the lives and work of special education teachers and related service professionals\, and their students are welcome.\n\nDeadline for submitting advertising copy is Friday\, September 12\, 2025.\nCopy must be camera ready – we will make no edits.\nAd size will be: Full Page 8″x10″     Half Page 8″x5″     Quarter Page 4″x5″\nBlack and White Only!\n\nAdvertising Rates:  Full Page    $200.00      Half Page     $100.00     Quarter Page    $50.00
URL:https://www.illinoiscec.net/event/icec-2025-fall-convention-program-advertisement-request/
LOCATION:Chicago Marriott Naperville\, 1801 N. Naper Blvd.\, Naperville\, IL\, 60653
CATEGORIES:Convention,Teachers
END:VEVENT
BEGIN:VEVENT
DTSTART;VALUE=DATE:20250913
DTEND;VALUE=DATE:20250914
DTSTAMP:20260423T042106
CREATED:20250610T191144Z
LAST-MODIFIED:20250610T191144Z
UID:3541-1757721600-1757807999@www.illinoiscec.net
SUMMARY:ICEC 2025 Fall Convention Exhibitor Request Deadline
DESCRIPTION:Exhibits that support the lives and work of special education teachers and related service professionals and their students are welcome.  We will provide exhibit space in the hallways outside of the breakout rooms on Thursday and Friday\, 8:00 a.m. – 4:00 p.m. and Saturday from 8:00 a.m. – 12:00 p.m.  We are pleased to provide a dedicated time from 8:00 a.m. – 9:00 a.m. on Thursday and Friday for attendees to visit our exhibits.  \n\nSPACE IS LIMITED – SO SIGN UP TODAY!!  The deadline to register is Saturday\, September 13\, 2025.
URL:https://www.illinoiscec.net/event/icec-2025-fall-convention-exhibitor-request-deadline/
LOCATION:Chicago Marriott Naperville\, 1801 N. Naper Blvd.\, Naperville\, IL\, 60653
CATEGORIES:Convention,Teachers
END:VEVENT
BEGIN:VEVENT
DTSTART;VALUE=DATE:20250930
DTEND;VALUE=DATE:20251001
DTSTAMP:20260423T042106
CREATED:20250929T211806Z
LAST-MODIFIED:20250929T211806Z
UID:3734-1759190400-1759276799@www.illinoiscec.net
SUMMARY:ICEC Fall Convention Early Bird Preregistration Deadline
DESCRIPTION:Take advantage of the best rates and register today for the 76th annual Fall Convention. ICEC is proud to host Whatever It Takes! Nov. 6-8 in Naperville\, IL\, at the Chicago Marriott Naperville\, and we look forward to seeing you and your colleagues there! Join us for excellent keynotes\, sessions\, and collaboration throughout our 3-day event. Mark your calendars & register today!! Early Bird Preregistration ends September 30th. \nRegister Today
URL:https://www.illinoiscec.net/event/icec-fall-convention-early-bird-preregistration-deadline/
LOCATION:Chicago Marriott Naperville\, 1801 N. Naper Blvd.\, Naperville\, IL\, 60653
CATEGORIES:Chapters,Convention,Executive Board,Members,PDHs,Professional Development,Teachers
END:VEVENT
BEGIN:VEVENT
DTSTART;VALUE=DATE:20250930
DTEND;VALUE=DATE:20251001
DTSTAMP:20260423T042106
CREATED:20250516T215624Z
LAST-MODIFIED:20250516T215624Z
UID:3534-1759190400-1759276799@www.illinoiscec.net
SUMMARY:Active Chapter Report Deadline
DESCRIPTION:Deadline to be submitted Annually to ICEC President and Treasurer September 30 \nSection IV\, Article 4.2.1 of the ICEC Policies and Bylaws require the following information be submitted to maintain active chapter status:\nActive Chapter Report Form
URL:https://www.illinoiscec.net/event/active-chapter-report-deadline/
CATEGORIES:Chapters
END:VEVENT
BEGIN:VEVENT
DTSTART;VALUE=DATE:20251015
DTEND;VALUE=DATE:20251016
DTSTAMP:20260423T042106
CREATED:20251003T232642Z
LAST-MODIFIED:20251003T232642Z
UID:3761-1760486400-1760572799@www.illinoiscec.net
SUMMARY:Ray Graham Memorial Grant Deadline
DESCRIPTION:
URL:https://www.illinoiscec.net/event/ray-graham-memorial-grant-deadline-3/
LOCATION:Chicago Marriott Naperville\, 1801 N. Naper Blvd.\, Naperville\, IL\, 60653
CATEGORIES:Chapters,Convention,Members,Teachers
END:VEVENT
BEGIN:VEVENT
DTSTART;VALUE=DATE:20251023
DTEND;VALUE=DATE:20251024
DTSTAMP:20260423T042106
CREATED:20250929T213007Z
LAST-MODIFIED:20250929T213007Z
UID:3740-1761177600-1761263999@www.illinoiscec.net
SUMMARY:ICEC Officer Nominations Deadline
DESCRIPTION:ICEC Officer Nomination Form
URL:https://www.illinoiscec.net/event/icec-officer-nominations-deadline/
CATEGORIES:Chapters,Executive Board,Members
END:VEVENT
BEGIN:VEVENT
DTSTART;VALUE=DATE:20251106
DTEND;VALUE=DATE:20251109
DTSTAMP:20260423T042106
CREATED:20250205T155508Z
LAST-MODIFIED:20250205T155525Z
UID:3394-1762387200-1762646399@www.illinoiscec.net
SUMMARY:ICEC 2025 Fall Convention
DESCRIPTION:
URL:https://www.illinoiscec.net/event/icec-2025-fall-convention/
LOCATION:Chicago Marriott Naperville\, 1801 N. Naper Blvd.\, Naperville\, IL\, 60653
CATEGORIES:Chapters,Convention,Executive Board,Members,PDHs,Professional Development,Teachers
END:VEVENT
BEGIN:VEVENT
DTSTART;TZID=America/Chicago:20260221T093000
DTEND;TZID=America/Chicago:20260221T140000
DTSTAMP:20260423T042106
CREATED:20251216T024954Z
LAST-MODIFIED:20251216T030357Z
UID:3831-1771666200-1771682400@www.illinoiscec.net
SUMMARY:Illinois Student Council for Exceptional Children Spring Conference
DESCRIPTION:This conference will be the first Student focused spring conference through ICEC and will be held on February 21st 2026. The purpose of this conference is to connect Student Chapters throughout the State of Illinois while learning about resources and organizations within Illinois. We will be having breakout sessions learning from different subdivisions within ICEC and other organizations including SLD Supports\, IDLD\, and more. We would love to welcome you and your students to attend our conference. We have attached a copy of a sign up for any students who would like to attend. This is a free event for all students and advisors.  When signing up\, please individually fill out the form in order to account for every attendee. The conference will be from 9:30am-2:00pm with 9:00-9:30am being the sign in/registration. Lunch will be provided where students will get to collaborate with other Universities throughout the State. The conference will be held at Eastern Illinois University in Buzzard Hall. We hope you can attend and please let us know if you have any questions! \n 
URL:https://www.illinoiscec.net/event/illinois-student-council-for-exceptional-children-spring-conference/
LOCATION:Eastern Illinois University\, 1920 9th St.\, Charleston\, IL\, 61920
CATEGORIES:Collegiate Advisors,Pre-service Students
END:VEVENT
END:VCALENDAR