BEGIN:VCALENDAR
VERSION:2.0
PRODID:-//Illinois Council for Exceptional Children - ECPv6.15.20//NONSGML v1.0//EN
CALSCALE:GREGORIAN
METHOD:PUBLISH
X-WR-CALNAME:Illinois Council for Exceptional Children
X-ORIGINAL-URL:https://www.illinoiscec.net
X-WR-CALDESC:Events for Illinois Council for Exceptional Children
REFRESH-INTERVAL;VALUE=DURATION:PT1H
X-Robots-Tag:noindex
X-PUBLISHED-TTL:PT1H
BEGIN:VTIMEZONE
TZID:America/Chicago
BEGIN:DAYLIGHT
TZOFFSETFROM:-0600
TZOFFSETTO:-0500
TZNAME:CDT
DTSTART:20180311T080000
END:DAYLIGHT
BEGIN:STANDARD
TZOFFSETFROM:-0500
TZOFFSETTO:-0600
TZNAME:CST
DTSTART:20181104T070000
END:STANDARD
BEGIN:DAYLIGHT
TZOFFSETFROM:-0600
TZOFFSETTO:-0500
TZNAME:CDT
DTSTART:20190310T080000
END:DAYLIGHT
BEGIN:STANDARD
TZOFFSETFROM:-0500
TZOFFSETTO:-0600
TZNAME:CST
DTSTART:20191103T070000
END:STANDARD
BEGIN:DAYLIGHT
TZOFFSETFROM:-0600
TZOFFSETTO:-0500
TZNAME:CDT
DTSTART:20200308T080000
END:DAYLIGHT
BEGIN:STANDARD
TZOFFSETFROM:-0500
TZOFFSETTO:-0600
TZNAME:CST
DTSTART:20201101T070000
END:STANDARD
END:VTIMEZONE
BEGIN:VEVENT
DTSTART;TZID=America/Chicago:20190904T080000
DTEND;TZID=America/Chicago:20191004T170000
DTSTAMP:20260423T061744
CREATED:20190904T185105Z
LAST-MODIFIED:20190904T185105Z
UID:505-1567584000-1570208400@www.illinoiscec.net
SUMMARY:Ray Graham Memorial Grant Deadline
DESCRIPTION:The purpose of this Grant is to encourage the improvement of total education for exceptional children as defined by the Illinois Council for Exceptional Children (ICEC).  The Grant is used to fund projects where local funding may not be available. Grant applicants are highly encouraged to seek local resources (School PTA\, building budget\, local foundations\, and community businesses) for possible partial funding of their project.  The maximum monetary from the Ray Graham Award is Five Hundred Dollars ($500.00). Past recipients may apply again.
URL:https://www.illinoiscec.net/event/ray-graham-memorial-grant-deadline/
LOCATION:IL
CATEGORIES:Members
ORGANIZER;CN="Bethanie Whittaker":MAILTO:bethaniewhittaker@gmail.com
END:VEVENT
END:VCALENDAR