BEGIN:VCALENDAR
VERSION:2.0
PRODID:-//Illinois Council for Exceptional Children - ECPv6.15.20//NONSGML v1.0//EN
CALSCALE:GREGORIAN
METHOD:PUBLISH
X-WR-CALNAME:Illinois Council for Exceptional Children
X-ORIGINAL-URL:https://www.illinoiscec.net
X-WR-CALDESC:Events for Illinois Council for Exceptional Children
REFRESH-INTERVAL;VALUE=DURATION:PT1H
X-Robots-Tag:noindex
X-PUBLISHED-TTL:PT1H
BEGIN:VTIMEZONE
TZID:America/Chicago
BEGIN:DAYLIGHT
TZOFFSETFROM:-0600
TZOFFSETTO:-0500
TZNAME:CDT
DTSTART:20200308T080000
END:DAYLIGHT
BEGIN:STANDARD
TZOFFSETFROM:-0500
TZOFFSETTO:-0600
TZNAME:CST
DTSTART:20201101T070000
END:STANDARD
BEGIN:DAYLIGHT
TZOFFSETFROM:-0600
TZOFFSETTO:-0500
TZNAME:CDT
DTSTART:20210314T080000
END:DAYLIGHT
BEGIN:STANDARD
TZOFFSETFROM:-0500
TZOFFSETTO:-0600
TZNAME:CST
DTSTART:20211107T070000
END:STANDARD
BEGIN:DAYLIGHT
TZOFFSETFROM:-0600
TZOFFSETTO:-0500
TZNAME:CDT
DTSTART:20220313T080000
END:DAYLIGHT
BEGIN:STANDARD
TZOFFSETFROM:-0500
TZOFFSETTO:-0600
TZNAME:CST
DTSTART:20221106T070000
END:STANDARD
BEGIN:DAYLIGHT
TZOFFSETFROM:-0600
TZOFFSETTO:-0500
TZNAME:CDT
DTSTART:20230312T080000
END:DAYLIGHT
BEGIN:STANDARD
TZOFFSETFROM:-0500
TZOFFSETTO:-0600
TZNAME:CST
DTSTART:20231105T070000
END:STANDARD
END:VTIMEZONE
BEGIN:VEVENT
DTSTART;VALUE=DATE:20210810
DTEND;VALUE=DATE:20220811
DTSTAMP:20260423T112914
CREATED:20210622T170447Z
LAST-MODIFIED:20210625T022422Z
UID:1498-1628553600-1660175999@www.illinoiscec.net
SUMMARY:CEC 100th Anniversary
DESCRIPTION:ICEC will be celebrating the 100th Anniversary of CEC throughout the coming year. Complete listing of speakers and presentation titles is available here.
URL:https://www.illinoiscec.net/event/cec-100th-anniversary/
LOCATION:IL
CATEGORIES:Members,Teachers
END:VEVENT
BEGIN:VEVENT
DTSTART;TZID=America/Chicago:20211211T130000
DTEND;TZID=America/Chicago:20211211T140000
DTSTAMP:20260423T112914
CREATED:20211110T223043Z
LAST-MODIFIED:20211130T015115Z
UID:1792-1639227600-1639231200@www.illinoiscec.net
SUMMARY:CEC 100th Anniversary Series #5-Dr. Nancy Mather\, "Dyslexia Assessment"
DESCRIPTION:Nancy Mather\, Ph.D.\, Professor Emerita\, University of Arizona in Tucson\, AZ. She served as a learning disabilities teacher\, a diagnostician\, a university professor\, and an educational consultant. She published numerous articles and books and conducts workshops on assessment and instruction both nationally and internationally. Dr. Mather is a co-author of the Woodcock-Johnson IV. Her most recent book on dyslexia is Essentials of Dyslexia: Assessment and Intervention. She is currently working on the Tests of Dyslexia\, a comprehensive measure designed to help identify individuals with dyslexia. \nZoom link for Dr. Nancy Mather’s presentation of Assessment of Dyslexia\nhttps://illinoisstate.zoom.us/j/92143274111  \nMeeting ID: 921 4327 4111\nOne tap mobile\n+13126266799\,\,92143274111# US (Chicago)\n+16468769923\,\,92143274111# US (New York)   \nDial by your location\n+1 312 626 6799 US (Chicago)\n+1 646 876 9923 US (New York)\n+1 301 715 8592 US (Washington DC)\n+1 346 248 7799 US (Houston)\n+1 669 900 6833 US (San Jose)\n+1 253 215 8782 US (Tacoma)\nFind your local number: https://illinoisstate.zoom.us/u/aoOiRDAEf  \nJoin by SIP\n92143274111@zoomcrc.com   \nJoin by H.323\n162.255.37.11 (US West)\n162.255.36.11 (US East)
URL:https://www.illinoiscec.net/event/cec-100th-anniversary-series-dr-nancy-mather-dyslexia-assessment/
LOCATION:IL
CATEGORIES:Chapters,Members,PDHs,Professional Development,Teachers
ATTACH;FMTTYPE=image/png:https://www.illinoiscec.net/ilcec/wp-content/uploads/2021/11/image-1.png
END:VEVENT
END:VCALENDAR